BEGIN:VCALENDAR
VERSION:2.0
PRODID:-//myjoyfulheart.org//NONSGML kigkonsult.se iCalcreator 2.30.10//
CALSCALE:GREGORIAN
METHOD:PUBLISH
UID:5b1b070e-2d12-4d27-9a88-7c0e4d02b067
X-WR-CALDESC:Email or Call to see what we are studying!
X-WR-RELCALID:204adec940a92d2695cd443a6835702a
X-WR-TIMEZONE:America/Chicago
BEGIN:VTIMEZONE
TZID:America/Chicago
BEGIN:STANDARD
TZNAME:CST
DTSTART:20281105T020000
TZOFFSETFROM:-0500
TZOFFSETTO:-0600
RDATE:20291104T020000
RDATE:20301103T020000
END:STANDARD
BEGIN:DAYLIGHT
TZNAME:CDT
DTSTART:20290311T020000
TZOFFSETFROM:-0600
TZOFFSETTO:-0500
RDATE:20300310T020000
RDATE:20310309T020000
END:DAYLIGHT
END:VTIMEZONE
BEGIN:VEVENT
UID:b7ca1dd2-2ff6-45a3-820d-997e67cdb39c
DTSTAMP:20260425T231644Z
DESCRIPTION:Email or Call to see what we are studying!
DTSTART;TZID=America/Chicago:20291002T081500
DTEND;TZID=America/Chicago:20291002T094500
LOCATION:9981 W. 190th St.\, Suite i\, Mokena\, IL 60448 US
SUMMARY:Bible Study
END:VEVENT
END:VCALENDAR
