BEGIN:VCALENDAR
VERSION:2.0
PRODID:-//myjoyfulheart.org//NONSGML kigkonsult.se iCalcreator 2.30.10//
CALSCALE:GREGORIAN
METHOD:PUBLISH
UID:8fc24203-855c-4c66-af82-829a52f13ab6
X-WR-CALDESC:Email or Call to see what we are studying!
X-WR-RELCALID:905be41bcb85e4f22c5a85d19ae7f07f
X-WR-TIMEZONE:America/Chicago
BEGIN:VTIMEZONE
TZID:America/Chicago
BEGIN:STANDARD
TZNAME:CST
DTSTART:20281105T020000
TZOFFSETFROM:-0500
TZOFFSETTO:-0600
RDATE:20291104T020000
RDATE:20301103T020000
END:STANDARD
BEGIN:DAYLIGHT
TZNAME:CDT
DTSTART:20290311T020000
TZOFFSETFROM:-0600
TZOFFSETTO:-0500
RDATE:20300310T020000
END:DAYLIGHT
END:VTIMEZONE
BEGIN:VEVENT
UID:bb8fda91-cdb7-4725-9c2f-ef1a3449af62
DTSTAMP:20260425T201507Z
DESCRIPTION:Email or Call to see what we are studying!
DTSTART;TZID=America/Chicago:20290821T081500
DTEND;TZID=America/Chicago:20290821T094500
LOCATION:9981 W. 190th St.\, Suite i\, Mokena\, IL 60448 US
SUMMARY:Bible Study
END:VEVENT
END:VCALENDAR
