BEGIN:VCALENDAR
VERSION:2.0
PRODID:-//myjoyfulheart.org//NONSGML kigkonsult.se iCalcreator 2.30.10//
CALSCALE:GREGORIAN
METHOD:PUBLISH
UID:5ec8ab1b-b213-4f76-87d9-c0a41ce7b9dd
X-WR-CALDESC:Email or Call to see what we are studying!
X-WR-RELCALID:e39415a5f73d1decb303092298534cbc
X-WR-TIMEZONE:America/Chicago
BEGIN:VTIMEZONE
TZID:America/Chicago
BEGIN:STANDARD
TZNAME:CST
DTSTART:20281105T020000
TZOFFSETFROM:-0500
TZOFFSETTO:-0600
RDATE:20291104T020000
RDATE:20301103T020000
END:STANDARD
BEGIN:DAYLIGHT
TZNAME:CDT
DTSTART:20290311T020000
TZOFFSETFROM:-0600
TZOFFSETTO:-0500
RDATE:20300310T020000
END:DAYLIGHT
END:VTIMEZONE
BEGIN:VEVENT
UID:111d05d7-dfd4-425e-ab8b-5282aefac043
DTSTAMP:20260425T170542Z
DESCRIPTION:Email or Call to see what we are studying!
DTSTART;TZID=America/Chicago:20290612T081500
DTEND;TZID=America/Chicago:20290612T094500
LOCATION:9981 W. 190th St.\, Suite i\, Mokena\, IL 60448 US
SUMMARY:Bible Study
END:VEVENT
END:VCALENDAR
