BEGIN:VCALENDAR
VERSION:2.0
PRODID:-//myjoyfulheart.org//NONSGML kigkonsult.se iCalcreator 2.30.10//
CALSCALE:GREGORIAN
METHOD:PUBLISH
UID:5c0f60a4-9420-47ae-b19b-06c09fbf43dc
X-WR-CALDESC:Email or Call to see what we are studying!
X-WR-RELCALID:c44186c84ea36f8d197f12df914b88e1
X-WR-TIMEZONE:America/Chicago
BEGIN:VTIMEZONE
TZID:America/Chicago
BEGIN:STANDARD
TZNAME:CST
DTSTART:20281105T020000
TZOFFSETFROM:-0500
TZOFFSETTO:-0600
RDATE:20291104T020000
END:STANDARD
BEGIN:DAYLIGHT
TZNAME:CDT
DTSTART:20290311T020000
TZOFFSETFROM:-0600
TZOFFSETTO:-0500
RDATE:20300310T020000
END:DAYLIGHT
END:VTIMEZONE
BEGIN:VEVENT
UID:ed992b91-ce68-40d7-8ee3-6eff774870f7
DTSTAMP:20260425T140301Z
DESCRIPTION:Email or Call to see what we are studying!
DTSTART;TZID=America/Chicago:20290417T081500
DTEND;TZID=America/Chicago:20290417T094500
LOCATION:9981 W. 190th St.\, Suite i\, Mokena\, IL 60448 US
SUMMARY:Bible Study
END:VEVENT
END:VCALENDAR
