BEGIN:VCALENDAR
VERSION:2.0
PRODID:-//myjoyfulheart.org//NONSGML kigkonsult.se iCalcreator 2.30.10//
CALSCALE:GREGORIAN
METHOD:PUBLISH
UID:7ac66a49-a51a-4ca3-9fc8-3dbb3a68d62c
X-WR-CALDESC:Email or Call to see what we are studying!
X-WR-RELCALID:540d9163372c3289b7343f5380b24bc6
X-WR-TIMEZONE:America/Chicago
BEGIN:VTIMEZONE
TZID:America/Chicago
BEGIN:STANDARD
TZNAME:CST
DTSTART:20281105T020000
TZOFFSETFROM:-0500
TZOFFSETTO:-0600
RDATE:20291104T020000
END:STANDARD
BEGIN:DAYLIGHT
TZNAME:CDT
DTSTART:20280312T020000
TZOFFSETFROM:-0600
TZOFFSETTO:-0500
RDATE:20290311T020000
RDATE:20300310T020000
END:DAYLIGHT
END:VTIMEZONE
BEGIN:VEVENT
UID:49bba4b3-deeb-4ceb-90db-af253304f0ad
DTSTAMP:20260425T104401Z
DESCRIPTION:Email or Call to see what we are studying!
DTSTART;TZID=America/Chicago:20290220T081500
DTEND;TZID=America/Chicago:20290220T094500
LOCATION:9981 W. 190th St.\, Suite i\, Mokena\, IL 60448 US
SUMMARY:Bible Study
END:VEVENT
END:VCALENDAR
