BEGIN:VCALENDAR
VERSION:2.0
PRODID:-//myjoyfulheart.org//NONSGML kigkonsult.se iCalcreator 2.30.10//
CALSCALE:GREGORIAN
METHOD:PUBLISH
UID:5c7a1ed6-fe99-434f-92a6-3214f1970588
X-WR-CALDESC:Email or Call to see what we are studying!
X-WR-RELCALID:ae705954b84f569abd9f55012a8f8e14
X-WR-TIMEZONE:America/Chicago
BEGIN:VTIMEZONE
TZID:America/Chicago
BEGIN:STANDARD
TZNAME:CST
DTSTART:20281105T020000
TZOFFSETFROM:-0500
TZOFFSETTO:-0600
RDATE:20291104T020000
END:STANDARD
BEGIN:DAYLIGHT
TZNAME:CDT
DTSTART:20280312T020000
TZOFFSETFROM:-0600
TZOFFSETTO:-0500
RDATE:20290311T020000
RDATE:20300310T020000
END:DAYLIGHT
END:VTIMEZONE
BEGIN:VEVENT
UID:d36ba2d6-55bd-4faa-b857-b71a3488acdd
DTSTAMP:20260425T103820Z
DESCRIPTION:Email or Call to see what we are studying!
DTSTART;TZID=America/Chicago:20290206T081500
DTEND;TZID=America/Chicago:20290206T094500
LOCATION:9981 W. 190th St.\, Suite i\, Mokena\, IL 60448 US
SUMMARY:Bible Study
END:VEVENT
END:VCALENDAR
