BEGIN:VCALENDAR
VERSION:2.0
PRODID:-//myjoyfulheart.org//NONSGML kigkonsult.se iCalcreator 2.30.10//
CALSCALE:GREGORIAN
METHOD:PUBLISH
UID:7330b998-e9cb-4ea7-9013-b23694ffe8cf
X-WR-CALDESC:Email or Call to see what we are studying!
X-WR-RELCALID:159985ce2bc01692c2e12f6fd318d5ca
X-WR-TIMEZONE:America/Chicago
BEGIN:VTIMEZONE
TZID:America/Chicago
BEGIN:STANDARD
TZNAME:CST
DTSTART:20271107T020000
TZOFFSETFROM:-0500
TZOFFSETTO:-0600
RDATE:20281105T020000
RDATE:20291104T020000
END:STANDARD
BEGIN:DAYLIGHT
TZNAME:CDT
DTSTART:20280312T020000
TZOFFSETFROM:-0600
TZOFFSETTO:-0500
RDATE:20290311T020000
RDATE:20300310T020000
END:DAYLIGHT
END:VTIMEZONE
BEGIN:VEVENT
UID:8e34ea01-0d4b-4202-a8a5-5903a4a87183
DTSTAMP:20260425T021507Z
DESCRIPTION:Email or Call to see what we are studying!
DTSTART;TZID=America/Chicago:20280926T081500
DTEND;TZID=America/Chicago:20280926T094500
LOCATION:9981 W. 190th St.\, Suite i\, Mokena\, IL 60448 US
SUMMARY:Bible Study
END:VEVENT
END:VCALENDAR
