BEGIN:VCALENDAR
VERSION:2.0
PRODID:-//myjoyfulheart.org//NONSGML kigkonsult.se iCalcreator 2.30.10//
CALSCALE:GREGORIAN
METHOD:PUBLISH
UID:181c698f-d5fa-4595-a6a3-9cf1733c2dde
X-WR-CALDESC:Email or Call to see what we are studying!
X-WR-RELCALID:eb68b06ed943f6ad57ca8a5c3b25ca47
X-WR-TIMEZONE:America/Chicago
BEGIN:VTIMEZONE
TZID:America/Chicago
BEGIN:STANDARD
TZNAME:CST
DTSTART:20271107T020000
TZOFFSETFROM:-0500
TZOFFSETTO:-0600
RDATE:20281105T020000
RDATE:20291104T020000
END:STANDARD
BEGIN:DAYLIGHT
TZNAME:CDT
DTSTART:20280312T020000
TZOFFSETFROM:-0600
TZOFFSETTO:-0500
RDATE:20290311T020000
END:DAYLIGHT
END:VTIMEZONE
BEGIN:VEVENT
UID:56755242-b6ce-4560-b903-b3d96197f4f7
DTSTAMP:20260425T002531Z
DESCRIPTION:Email or Call to see what we are studying!
DTSTART;TZID=America/Chicago:20280815T081500
DTEND;TZID=America/Chicago:20280815T094500
LOCATION:9981 W. 190th St.\, Suite i\, Mokena\, IL 60448 US
SUMMARY:Bible Study
END:VEVENT
END:VCALENDAR
