BEGIN:VCALENDAR
VERSION:2.0
PRODID:-//myjoyfulheart.org//NONSGML kigkonsult.se iCalcreator 2.30.10//
CALSCALE:GREGORIAN
METHOD:PUBLISH
UID:1f0279e9-33f8-47d9-8b28-195b219ac5cb
X-WR-CALDESC:Email or Call to see what we are studying!
X-WR-RELCALID:74b750cfbb9befa03020f67e57d144ba
X-WR-TIMEZONE:America/Chicago
BEGIN:VTIMEZONE
TZID:America/Chicago
BEGIN:STANDARD
TZNAME:CST
DTSTART:20271107T020000
TZOFFSETFROM:-0500
TZOFFSETTO:-0600
RDATE:20281105T020000
RDATE:20291104T020000
END:STANDARD
BEGIN:DAYLIGHT
TZNAME:CDT
DTSTART:20280312T020000
TZOFFSETFROM:-0600
TZOFFSETTO:-0500
RDATE:20290311T020000
END:DAYLIGHT
END:VTIMEZONE
BEGIN:VEVENT
UID:9e89e46a-ebf5-4433-9625-02549d18bf90
DTSTAMP:20260424T223405Z
DESCRIPTION:Email or Call to see what we are studying!
DTSTART;TZID=America/Chicago:20280725T081500
DTEND;TZID=America/Chicago:20280725T094500
LOCATION:9981 W. 190th St.\, Suite i\, Mokena\, IL 60448 US
SUMMARY:Bible Study
END:VEVENT
END:VCALENDAR
