BEGIN:VCALENDAR
VERSION:2.0
PRODID:-//myjoyfulheart.org//NONSGML kigkonsult.se iCalcreator 2.30.10//
CALSCALE:GREGORIAN
METHOD:PUBLISH
UID:95f4f870-8863-41a3-bebd-345ffc8d46fa
X-WR-CALDESC:Email or Call to see what we are studying!
X-WR-RELCALID:a899bede5fd343752cfbbaa878e38070
X-WR-TIMEZONE:America/Chicago
BEGIN:VTIMEZONE
TZID:America/Chicago
BEGIN:STANDARD
TZNAME:CST
DTSTART:20271107T020000
TZOFFSETFROM:-0500
TZOFFSETTO:-0600
RDATE:20281105T020000
RDATE:20291104T020000
END:STANDARD
BEGIN:DAYLIGHT
TZNAME:CDT
DTSTART:20280312T020000
TZOFFSETFROM:-0600
TZOFFSETTO:-0500
RDATE:20290311T020000
END:DAYLIGHT
END:VTIMEZONE
BEGIN:VEVENT
UID:4657f538-1782-42a6-b931-9d1037a62187
DTSTAMP:20260424T190534Z
DESCRIPTION:Email or Call to see what we are studying!
DTSTART;TZID=America/Chicago:20280509T081500
DTEND;TZID=America/Chicago:20280509T094500
LOCATION:9981 W. 190th St.\, Suite i\, Mokena\, IL 60448 US
SUMMARY:Bible Study
END:VEVENT
END:VCALENDAR
