BEGIN:VCALENDAR
VERSION:2.0
PRODID:-//myjoyfulheart.org//NONSGML kigkonsult.se iCalcreator 2.30.10//
CALSCALE:GREGORIAN
METHOD:PUBLISH
UID:fa71db1f-2c10-4991-b685-24c831742fe0
X-WR-CALDESC:Email or Call to see what we are studying!
X-WR-RELCALID:8b1c80022aa45a8e22c1280b2dfc606f
X-WR-TIMEZONE:America/Chicago
BEGIN:VTIMEZONE
TZID:America/Chicago
BEGIN:STANDARD
TZNAME:CST
DTSTART:20271107T020000
TZOFFSETFROM:-0500
TZOFFSETTO:-0600
RDATE:20281105T020000
END:STANDARD
BEGIN:DAYLIGHT
TZNAME:CDT
DTSTART:20280312T020000
TZOFFSETFROM:-0600
TZOFFSETTO:-0500
RDATE:20290311T020000
END:DAYLIGHT
END:VTIMEZONE
BEGIN:VEVENT
UID:dc43ffbc-0e4e-4fa6-ad81-6519d8ddac59
DTSTAMP:20260424T172730Z
DESCRIPTION:Email or Call to see what we are studying!
DTSTART;TZID=America/Chicago:20280418T081500
DTEND;TZID=America/Chicago:20280418T094500
LOCATION:9981 W. 190th St.\, Suite i\, Mokena\, IL 60448 US
SUMMARY:Bible Study
END:VEVENT
END:VCALENDAR
