BEGIN:VCALENDAR
VERSION:2.0
PRODID:-//myjoyfulheart.org//NONSGML kigkonsult.se iCalcreator 2.30.10//
CALSCALE:GREGORIAN
METHOD:PUBLISH
UID:39e2673d-3a68-4e9a-96a7-0067c0b18617
X-WR-CALDESC:Email or Call to see what we are studying!
X-WR-RELCALID:4d1b470600cf366f2c5c63bb878db6ab
X-WR-TIMEZONE:America/Chicago
BEGIN:VTIMEZONE
TZID:America/Chicago
BEGIN:STANDARD
TZNAME:CST
DTSTART:20271107T020000
TZOFFSETFROM:-0500
TZOFFSETTO:-0600
RDATE:20281105T020000
END:STANDARD
BEGIN:DAYLIGHT
TZNAME:CDT
DTSTART:20270314T020000
TZOFFSETFROM:-0600
TZOFFSETTO:-0500
RDATE:20280312T020000
RDATE:20290311T020000
END:DAYLIGHT
END:VTIMEZONE
BEGIN:VEVENT
UID:dc2d4fa0-8aa6-4f92-b19b-71b9478402a6
DTSTAMP:20260424T111224Z
DESCRIPTION:Email or Call to see what we are studying!
DTSTART;TZID=America/Chicago:20271228T081500
DTEND;TZID=America/Chicago:20271228T094500
LOCATION:9981 W. 190th St.\, Suite i\, Mokena\, IL 60448 US
SUMMARY:Bible Study
END:VEVENT
END:VCALENDAR
