BEGIN:VCALENDAR
VERSION:2.0
PRODID:-//myjoyfulheart.org//NONSGML kigkonsult.se iCalcreator 2.30.10//
CALSCALE:GREGORIAN
METHOD:PUBLISH
UID:1cfaeef6-4a9f-4a00-a714-9618e09d1d07
X-WR-CALDESC:Email or Call to see what we are studying!
X-WR-RELCALID:30b23ef6805000a4d65cb73d5dcaec84
X-WR-TIMEZONE:America/Chicago
BEGIN:VTIMEZONE
TZID:America/Chicago
BEGIN:STANDARD
TZNAME:CST
DTSTART:20271107T020000
TZOFFSETFROM:-0500
TZOFFSETTO:-0600
RDATE:20281105T020000
END:STANDARD
BEGIN:DAYLIGHT
TZNAME:CDT
DTSTART:20270314T020000
TZOFFSETFROM:-0600
TZOFFSETTO:-0500
RDATE:20280312T020000
RDATE:20290311T020000
END:DAYLIGHT
END:VTIMEZONE
BEGIN:VEVENT
UID:c620c8e4-aa21-4c5e-8ee3-5bcb3bc12d86
DTSTAMP:20260424T095709Z
DESCRIPTION:Email or Call to see what we are studying!
DTSTART;TZID=America/Chicago:20271123T081500
DTEND;TZID=America/Chicago:20271123T094500
LOCATION:9981 W. 190th St.\, Suite i\, Mokena\, IL 60448 US
SUMMARY:Bible Study
END:VEVENT
END:VCALENDAR
