BEGIN:VCALENDAR
VERSION:2.0
PRODID:-//myjoyfulheart.org//NONSGML kigkonsult.se iCalcreator 2.30.10//
CALSCALE:GREGORIAN
METHOD:PUBLISH
UID:b31e2ec5-a550-4739-90f3-d3ca91f1c335
X-WR-CALDESC:Email or Call to see what we are studying!
X-WR-RELCALID:63d617133fbda8bec5adc95af7bfbead
X-WR-TIMEZONE:America/Chicago
BEGIN:VTIMEZONE
TZID:America/Chicago
BEGIN:STANDARD
TZNAME:CST
DTSTART:20271107T020000
TZOFFSETFROM:-0500
TZOFFSETTO:-0600
RDATE:20281105T020000
END:STANDARD
BEGIN:DAYLIGHT
TZNAME:CDT
DTSTART:20270314T020000
TZOFFSETFROM:-0600
TZOFFSETTO:-0500
RDATE:20280312T020000
RDATE:20290311T020000
END:DAYLIGHT
END:VTIMEZONE
BEGIN:VEVENT
UID:63de2220-a66b-4161-a3c3-3b9f9160fb45
DTSTAMP:20260424T095135Z
DESCRIPTION:Email or Call to see what we are studying!
DTSTART;TZID=America/Chicago:20271102T081500
DTEND;TZID=America/Chicago:20271102T094500
LOCATION:9981 W. 190th St.\, Suite i\, Mokena\, IL 60448 US
SUMMARY:Bible Study
END:VEVENT
END:VCALENDAR
