BEGIN:VCALENDAR
VERSION:2.0
PRODID:-//myjoyfulheart.org//NONSGML kigkonsult.se iCalcreator 2.30.10//
CALSCALE:GREGORIAN
METHOD:PUBLISH
UID:5f0c4b1c-7a55-42ce-80f2-e4da56cdbff7
X-WR-CALDESC:Email or Call to see what we are studying!
X-WR-RELCALID:c42a0678259051399896e566284a43a5
X-WR-TIMEZONE:America/Chicago
BEGIN:VTIMEZONE
TZID:America/Chicago
BEGIN:STANDARD
TZNAME:CST
DTSTART:20261101T020000
TZOFFSETFROM:-0500
TZOFFSETTO:-0600
RDATE:20271107T020000
RDATE:20281105T020000
END:STANDARD
BEGIN:DAYLIGHT
TZNAME:CDT
DTSTART:20270314T020000
TZOFFSETFROM:-0600
TZOFFSETTO:-0500
RDATE:20280312T020000
RDATE:20290311T020000
END:DAYLIGHT
END:VTIMEZONE
BEGIN:VEVENT
UID:88eec3e5-268d-4cd6-befd-111dbca9bcf1
DTSTAMP:20260424T081417Z
DESCRIPTION:Email or Call to see what we are studying!
DTSTART;TZID=America/Chicago:20271019T081500
DTEND;TZID=America/Chicago:20271019T094500
LOCATION:9981 W. 190th St.\, Suite i\, Mokena\, IL 60448 US
SUMMARY:Bible Study
END:VEVENT
END:VCALENDAR
