BEGIN:VCALENDAR
VERSION:2.0
PRODID:-//myjoyfulheart.org//NONSGML kigkonsult.se iCalcreator 2.30.10//
CALSCALE:GREGORIAN
METHOD:PUBLISH
UID:308de0a5-0236-4d89-9e7b-bfe5b66b5b7b
X-WR-CALDESC:Email or Call to see what we are studying!
X-WR-RELCALID:195944a628828bd4ccfe825c474af946
X-WR-TIMEZONE:America/Chicago
BEGIN:VTIMEZONE
TZID:America/Chicago
BEGIN:STANDARD
TZNAME:CST
DTSTART:20261101T020000
TZOFFSETFROM:-0500
TZOFFSETTO:-0600
RDATE:20271107T020000
RDATE:20281105T020000
END:STANDARD
BEGIN:DAYLIGHT
TZNAME:CDT
DTSTART:20270314T020000
TZOFFSETFROM:-0600
TZOFFSETTO:-0500
RDATE:20280312T020000
RDATE:20290311T020000
END:DAYLIGHT
END:VTIMEZONE
BEGIN:VEVENT
UID:9f002ccb-4761-48a3-a7c8-8a4cfcafb196
DTSTAMP:20260424T081430Z
DESCRIPTION:Email or Call to see what we are studying!
DTSTART;TZID=America/Chicago:20271012T081500
DTEND;TZID=America/Chicago:20271012T094500
LOCATION:9981 W. 190th St.\, Suite i\, Mokena\, IL 60448 US
SUMMARY:Bible Study
END:VEVENT
END:VCALENDAR
