BEGIN:VCALENDAR
VERSION:2.0
PRODID:-//myjoyfulheart.org//NONSGML kigkonsult.se iCalcreator 2.30.10//
CALSCALE:GREGORIAN
METHOD:PUBLISH
UID:df011b28-5a12-461d-befe-d7dc4f361357
X-WR-CALDESC:Email or Call to see what we are studying!
X-WR-RELCALID:491a25c1afc8440a4bc4936aa7564d59
X-WR-TIMEZONE:America/Chicago
BEGIN:VTIMEZONE
TZID:America/Chicago
BEGIN:STANDARD
TZNAME:CST
DTSTART:20261101T020000
TZOFFSETFROM:-0500
TZOFFSETTO:-0600
RDATE:20271107T020000
RDATE:20281105T020000
END:STANDARD
BEGIN:DAYLIGHT
TZNAME:CDT
DTSTART:20270314T020000
TZOFFSETFROM:-0600
TZOFFSETTO:-0500
RDATE:20280312T020000
END:DAYLIGHT
END:VTIMEZONE
BEGIN:VEVENT
UID:bd4f51ab-54d0-429d-a8a7-3835621cfedb
DTSTAMP:20260424T053121Z
DESCRIPTION:Email or Call to see what we are studying!
DTSTART;TZID=America/Chicago:20270824T081500
DTEND;TZID=America/Chicago:20270824T094500
LOCATION:9981 W. 190th St.\, Suite i\, Mokena\, IL 60448 US
SUMMARY:Bible Study
END:VEVENT
END:VCALENDAR
