BEGIN:VCALENDAR
VERSION:2.0
PRODID:-//myjoyfulheart.org//NONSGML kigkonsult.se iCalcreator 2.30.10//
CALSCALE:GREGORIAN
METHOD:PUBLISH
UID:949194e4-12c4-4c81-a4fa-e1dcc1a36a60
X-WR-CALDESC:Email or Call to see what we are studying!
X-WR-RELCALID:89cc7051e26b1545d230a6eb8e2408d0
X-WR-TIMEZONE:America/Chicago
BEGIN:VTIMEZONE
TZID:America/Chicago
BEGIN:STANDARD
TZNAME:CST
DTSTART:20261101T020000
TZOFFSETFROM:-0500
TZOFFSETTO:-0600
RDATE:20271107T020000
RDATE:20281105T020000
END:STANDARD
BEGIN:DAYLIGHT
TZNAME:CDT
DTSTART:20270314T020000
TZOFFSETFROM:-0600
TZOFFSETTO:-0500
RDATE:20280312T020000
END:DAYLIGHT
END:VTIMEZONE
BEGIN:VEVENT
UID:34c9e382-85d2-453a-b4ea-e6b4689127d7
DTSTAMP:20260424T130857Z
DESCRIPTION:Email or Call to see what we are studying!
DTSTART;TZID=America/Chicago:20270518T081500
DTEND;TZID=America/Chicago:20270518T094500
LOCATION:9981 W. 190th St.\, Suite i\, Mokena\, IL 60448 US
SUMMARY:Bible Study
END:VEVENT
END:VCALENDAR
