BEGIN:VCALENDAR
VERSION:2.0
PRODID:-//myjoyfulheart.org//NONSGML kigkonsult.se iCalcreator 2.30.10//
CALSCALE:GREGORIAN
METHOD:PUBLISH
UID:8e543e92-689d-4815-817c-18747df0f774
X-WR-CALDESC:Email or Call to see what we are studying!
X-WR-RELCALID:9942a87c7a48721c81b9d04cd2c6db29
X-WR-TIMEZONE:America/Chicago
BEGIN:VTIMEZONE
TZID:America/Chicago
BEGIN:STANDARD
TZNAME:CST
DTSTART:20261101T020000
TZOFFSETFROM:-0500
TZOFFSETTO:-0600
RDATE:20271107T020000
END:STANDARD
BEGIN:DAYLIGHT
TZNAME:CDT
DTSTART:20270314T020000
TZOFFSETFROM:-0600
TZOFFSETTO:-0500
RDATE:20280312T020000
END:DAYLIGHT
END:VTIMEZONE
BEGIN:VEVENT
UID:3eb90358-8df6-482f-a8a7-e4bc6eb69daa
DTSTAMP:20260423T165759Z
DESCRIPTION:Email or Call to see what we are studying!
DTSTART;TZID=America/Chicago:20270323T081500
DTEND;TZID=America/Chicago:20270323T094500
LOCATION:9981 W. 190th St.\, Suite i\, Mokena\, IL 60448 US
SUMMARY:Bible Study
END:VEVENT
END:VCALENDAR
