BEGIN:VCALENDAR
VERSION:2.0
PRODID:-//myjoyfulheart.org//NONSGML kigkonsult.se iCalcreator 2.30.10//
CALSCALE:GREGORIAN
METHOD:PUBLISH
UID:ddd1027d-1317-4ee6-9180-334d088ed6d0
X-WR-CALDESC:Email or Call to see what we are studying!
X-WR-RELCALID:86cfeb4d5a2fa00e10f23bf772f013d6
X-WR-TIMEZONE:America/Chicago
BEGIN:VTIMEZONE
TZID:America/Chicago
BEGIN:STANDARD
TZNAME:CST
DTSTART:20261101T020000
TZOFFSETFROM:-0500
TZOFFSETTO:-0600
RDATE:20271107T020000
END:STANDARD
BEGIN:DAYLIGHT
TZNAME:CDT
DTSTART:20260308T020000
TZOFFSETFROM:-0600
TZOFFSETTO:-0500
RDATE:20270314T020000
RDATE:20280312T020000
END:DAYLIGHT
END:VTIMEZONE
BEGIN:VEVENT
UID:a205fe67-d9c8-45fa-a513-74531b956e26
DTSTAMP:20260423T081658Z
DESCRIPTION:Email or Call to see what we are studying!
DTSTART;TZID=America/Chicago:20270119T081500
DTEND;TZID=America/Chicago:20270119T094500
LOCATION:9981 W. 190th St.\, Suite i\, Mokena\, IL 60448 US
SUMMARY:Bible Study
END:VEVENT
END:VCALENDAR
