BEGIN:VCALENDAR
VERSION:2.0
PRODID:-//myjoyfulheart.org//NONSGML kigkonsult.se iCalcreator 2.30.10//
CALSCALE:GREGORIAN
METHOD:PUBLISH
UID:87be549c-72df-4895-9c57-4b0cfa7d3747
X-WR-CALDESC:Email or Call to see what we are studying!
X-WR-RELCALID:6fcb690b429f324ef0a6136e279d66f3
X-WR-TIMEZONE:America/Chicago
BEGIN:VTIMEZONE
TZID:America/Chicago
BEGIN:STANDARD
TZNAME:CST
DTSTART:20261101T020000
TZOFFSETFROM:-0500
TZOFFSETTO:-0600
RDATE:20271107T020000
END:STANDARD
BEGIN:DAYLIGHT
TZNAME:CDT
DTSTART:20260308T020000
TZOFFSETFROM:-0600
TZOFFSETTO:-0500
RDATE:20270314T020000
RDATE:20280312T020000
END:DAYLIGHT
END:VTIMEZONE
BEGIN:VEVENT
UID:0211d3a3-5f6e-44f0-bdf6-c453681ea17c
DTSTAMP:20260423T082916Z
DESCRIPTION:Email or Call to see what we are studying!
DTSTART;TZID=America/Chicago:20270105T081500
DTEND;TZID=America/Chicago:20270105T094500
LOCATION:9981 W. 190th St.\, Suite i\, Mokena\, IL 60448 US
SUMMARY:Bible Study
END:VEVENT
END:VCALENDAR
