BEGIN:VCALENDAR
VERSION:2.0
PRODID:-//myjoyfulheart.org//NONSGML kigkonsult.se iCalcreator 2.30.10//
CALSCALE:GREGORIAN
METHOD:PUBLISH
UID:21cf20e3-a8d0-40af-ae60-14ce0c632093
X-WR-CALDESC:Email or Call to see what we are studying!
X-WR-RELCALID:f7a977efafbcbc79ddc2dad53c8c7716
X-WR-TIMEZONE:America/Chicago
BEGIN:VTIMEZONE
TZID:America/Chicago
BEGIN:STANDARD
TZNAME:CST
DTSTART:20261101T020000
TZOFFSETFROM:-0500
TZOFFSETTO:-0600
RDATE:20271107T020000
END:STANDARD
BEGIN:DAYLIGHT
TZNAME:CDT
DTSTART:20260308T020000
TZOFFSETFROM:-0600
TZOFFSETTO:-0500
RDATE:20270314T020000
RDATE:20280312T020000
END:DAYLIGHT
END:VTIMEZONE
BEGIN:VEVENT
UID:3d164b03-d67d-4089-9f10-fce5291ded12
DTSTAMP:20260423T041330Z
DESCRIPTION:Email or Call to see what we are studying!
DTSTART;TZID=America/Chicago:20261215T081500
DTEND;TZID=America/Chicago:20261215T094500
LOCATION:9981 W. 190th St.\, Suite i\, Mokena\, IL 60448 US
SUMMARY:Bible Study
END:VEVENT
END:VCALENDAR
