BEGIN:VCALENDAR
VERSION:2.0
PRODID:-//myjoyfulheart.org//NONSGML kigkonsult.se iCalcreator 2.30.10//
CALSCALE:GREGORIAN
METHOD:PUBLISH
UID:731892bd-030a-4ac4-a892-a868d5d1a82e
X-WR-CALDESC:Email or Call to see what we are studying!
X-WR-RELCALID:f63dedbc111a4ea6ede604107eca6b2e
X-WR-TIMEZONE:America/Chicago
BEGIN:VTIMEZONE
TZID:America/Chicago
BEGIN:STANDARD
TZNAME:CST
DTSTART:20261101T020000
TZOFFSETFROM:-0500
TZOFFSETTO:-0600
RDATE:20271107T020000
END:STANDARD
BEGIN:DAYLIGHT
TZNAME:CDT
DTSTART:20260308T020000
TZOFFSETFROM:-0600
TZOFFSETTO:-0500
RDATE:20270314T020000
RDATE:20280312T020000
END:DAYLIGHT
END:VTIMEZONE
BEGIN:VEVENT
UID:17d148f1-0b77-4b38-9863-f12fde0c2b80
DTSTAMP:20260423T041825Z
DESCRIPTION:Email or Call to see what we are studying!
DTSTART;TZID=America/Chicago:20261208T081500
DTEND;TZID=America/Chicago:20261208T094500
LOCATION:9981 W. 190th St.\, Suite i\, Mokena\, IL 60448 US
SUMMARY:Bible Study
END:VEVENT
END:VCALENDAR
