BEGIN:VCALENDAR
VERSION:2.0
PRODID:-//myjoyfulheart.org//NONSGML kigkonsult.se iCalcreator 2.30.10//
CALSCALE:GREGORIAN
METHOD:PUBLISH
UID:03c5c735-bc60-42f3-87af-289eaa63b88c
X-WR-CALDESC:Email or Call to see what we are studying!
X-WR-RELCALID:6dc8bcab483bf59f363d3235dc65a47c
X-WR-TIMEZONE:America/Chicago
BEGIN:VTIMEZONE
TZID:America/Chicago
BEGIN:STANDARD
TZNAME:CST
DTSTART:20261101T020000
TZOFFSETFROM:-0500
TZOFFSETTO:-0600
RDATE:20271107T020000
END:STANDARD
BEGIN:DAYLIGHT
TZNAME:CDT
DTSTART:20260308T020000
TZOFFSETFROM:-0600
TZOFFSETTO:-0500
RDATE:20270314T020000
RDATE:20280312T020000
END:DAYLIGHT
END:VTIMEZONE
BEGIN:VEVENT
UID:43c25bfb-6f04-49e7-9b48-cf3697faf8e0
DTSTAMP:20260423T043741Z
DESCRIPTION:Email or Call to see what we are studying!
DTSTART;TZID=America/Chicago:20261201T081500
DTEND;TZID=America/Chicago:20261201T094500
LOCATION:9981 W. 190th St.\, Suite i\, Mokena\, IL 60448 US
SUMMARY:Bible Study
END:VEVENT
END:VCALENDAR
