BEGIN:VCALENDAR
VERSION:2.0
PRODID:-//myjoyfulheart.org//NONSGML kigkonsult.se iCalcreator 2.30.10//
CALSCALE:GREGORIAN
METHOD:PUBLISH
UID:a1c81a2b-23bf-48eb-b4db-a2a65878a827
X-WR-CALDESC:Email or Call to see what we are studying!
X-WR-RELCALID:e314eb024be0eb73e7643f0687e59440
X-WR-TIMEZONE:America/Chicago
BEGIN:VTIMEZONE
TZID:America/Chicago
BEGIN:STANDARD
TZNAME:CST
DTSTART:20261101T020000
TZOFFSETFROM:-0500
TZOFFSETTO:-0600
RDATE:20271107T020000
END:STANDARD
BEGIN:DAYLIGHT
TZNAME:CDT
DTSTART:20260308T020000
TZOFFSETFROM:-0600
TZOFFSETTO:-0500
RDATE:20270314T020000
RDATE:20280312T020000
END:DAYLIGHT
END:VTIMEZONE
BEGIN:VEVENT
UID:ecd612ff-bbe6-4f8a-8373-61733c43f9d9
DTSTAMP:20260422T234429Z
DESCRIPTION:Email or Call to see what we are studying!
DTSTART;TZID=America/Chicago:20261124T081500
DTEND;TZID=America/Chicago:20261124T094500
LOCATION:9981 W. 190th St.\, Suite i\, Mokena\, IL 60448 US
SUMMARY:Bible Study
END:VEVENT
END:VCALENDAR
