BEGIN:VCALENDAR
VERSION:2.0
PRODID:-//myjoyfulheart.org//NONSGML kigkonsult.se iCalcreator 2.30.10//
CALSCALE:GREGORIAN
METHOD:PUBLISH
UID:9f69126c-74df-4bf1-a01b-51001d28bb80
X-WR-CALDESC:Email or Call to see what we are studying!
X-WR-RELCALID:633fd51ade606495b3d891c3e9520758
X-WR-TIMEZONE:America/Chicago
BEGIN:VTIMEZONE
TZID:America/Chicago
BEGIN:STANDARD
TZNAME:CST
DTSTART:20261101T020000
TZOFFSETFROM:-0500
TZOFFSETTO:-0600
RDATE:20271107T020000
END:STANDARD
BEGIN:DAYLIGHT
TZNAME:CDT
DTSTART:20260308T020000
TZOFFSETFROM:-0600
TZOFFSETTO:-0500
RDATE:20270314T020000
RDATE:20280312T020000
END:DAYLIGHT
END:VTIMEZONE
BEGIN:VEVENT
UID:851b99c4-3e29-4d65-9f30-c4a7927b89ae
DTSTAMP:20260422T234429Z
DESCRIPTION:Email or Call to see what we are studying!
DTSTART;TZID=America/Chicago:20261110T081500
DTEND;TZID=America/Chicago:20261110T094500
LOCATION:9981 W. 190th St.\, Suite i\, Mokena\, IL 60448 US
SUMMARY:Bible Study
END:VEVENT
END:VCALENDAR
