BEGIN:VCALENDAR
VERSION:2.0
PRODID:-//myjoyfulheart.org//NONSGML kigkonsult.se iCalcreator 2.30.10//
CALSCALE:GREGORIAN
METHOD:PUBLISH
UID:2a52583e-c64d-4465-9eb0-14dcf240a140
X-WR-CALDESC:Email or Call to see what we are studying!
X-WR-RELCALID:aac6bb5a264854627d2d98a2c18bd8b0
X-WR-TIMEZONE:America/Chicago
BEGIN:VTIMEZONE
TZID:America/Chicago
BEGIN:STANDARD
TZNAME:CST
DTSTART:20251102T020000
TZOFFSETFROM:-0500
TZOFFSETTO:-0600
RDATE:20261101T020000
RDATE:20271107T020000
END:STANDARD
BEGIN:DAYLIGHT
TZNAME:CDT
DTSTART:20260308T020000
TZOFFSETFROM:-0600
TZOFFSETTO:-0500
RDATE:20270314T020000
RDATE:20280312T020000
END:DAYLIGHT
END:VTIMEZONE
BEGIN:VEVENT
UID:8c6ddbb6-730d-4f75-8334-d37d3cbdf8fb
DTSTAMP:20260422T134653Z
DESCRIPTION:Email or Call to see what we are studying!
DTSTART;TZID=America/Chicago:20260922T081500
DTEND;TZID=America/Chicago:20260922T094500
LOCATION:9981 W. 190th St.\, Suite i\, Mokena\, IL 60448 US
SUMMARY:Bible Study
END:VEVENT
END:VCALENDAR
