BEGIN:VCALENDAR
VERSION:2.0
PRODID:-//myjoyfulheart.org//NONSGML kigkonsult.se iCalcreator 2.30.10//
CALSCALE:GREGORIAN
METHOD:PUBLISH
UID:17c63fc9-407a-4ea9-9065-5ca90eb49685
X-WR-CALDESC:Email or Call to see what we are studying!
X-WR-RELCALID:f85ab8048e76c7b8b7b215072d014d16
X-WR-TIMEZONE:America/Chicago
BEGIN:VTIMEZONE
TZID:America/Chicago
BEGIN:STANDARD
TZNAME:CST
DTSTART:20251102T020000
TZOFFSETFROM:-0500
TZOFFSETTO:-0600
RDATE:20261101T020000
RDATE:20271107T020000
END:STANDARD
BEGIN:DAYLIGHT
TZNAME:CDT
DTSTART:20260308T020000
TZOFFSETFROM:-0600
TZOFFSETTO:-0500
RDATE:20270314T020000
END:DAYLIGHT
END:VTIMEZONE
BEGIN:VEVENT
UID:9d7ed225-e574-4750-b7ab-ab3d1c451c81
DTSTAMP:20260422T035721Z
DESCRIPTION:Email or Call to see what we are studying!
DTSTART;TZID=America/Chicago:20260728T081500
DTEND;TZID=America/Chicago:20260728T094500
LOCATION:9981 W. 190th St.\, Suite i\, Mokena\, IL 60448 US
SUMMARY:Bible Study
END:VEVENT
END:VCALENDAR
