BEGIN:VCALENDAR
VERSION:2.0
PRODID:-//myjoyfulheart.org//NONSGML kigkonsult.se iCalcreator 2.30.10//
CALSCALE:GREGORIAN
METHOD:PUBLISH
UID:1bbeb4f6-6203-44db-9d43-00781f35b349
X-WR-CALDESC:Email or Call to see what we are studying!
X-WR-RELCALID:387ee1c796f0fdf03c568809f16a9ee8
X-WR-TIMEZONE:America/Chicago
BEGIN:VTIMEZONE
TZID:America/Chicago
BEGIN:STANDARD
TZNAME:CST
DTSTART:20251102T020000
TZOFFSETFROM:-0500
TZOFFSETTO:-0600
RDATE:20261101T020000
RDATE:20271107T020000
END:STANDARD
BEGIN:DAYLIGHT
TZNAME:CDT
DTSTART:20260308T020000
TZOFFSETFROM:-0600
TZOFFSETTO:-0500
RDATE:20270314T020000
END:DAYLIGHT
END:VTIMEZONE
BEGIN:VEVENT
UID:92fac075-ce0c-4b3d-a3a8-cdadcc96c3e9
DTSTAMP:20260422T032813Z
DESCRIPTION:Email or Call to see what we are studying!
DTSTART;TZID=America/Chicago:20260721T081500
DTEND;TZID=America/Chicago:20260721T094500
LOCATION:9981 W. 190th St.\, Suite i\, Mokena\, IL 60448 US
SUMMARY:Bible Study
END:VEVENT
END:VCALENDAR
