BEGIN:VCALENDAR
VERSION:2.0
PRODID:-//myjoyfulheart.org//NONSGML kigkonsult.se iCalcreator 2.30.10//
CALSCALE:GREGORIAN
METHOD:PUBLISH
UID:9de9b56d-fa7d-4cc4-a679-79be92a123b6
X-WR-CALDESC:Email or Call to see what we are studying!
X-WR-RELCALID:fec7cb9c7793d77277fc28167f86e023
X-WR-TIMEZONE:America/Chicago
BEGIN:VTIMEZONE
TZID:America/Chicago
BEGIN:STANDARD
TZNAME:CST
DTSTART:20251102T020000
TZOFFSETFROM:-0500
TZOFFSETTO:-0600
RDATE:20261101T020000
END:STANDARD
BEGIN:DAYLIGHT
TZNAME:CDT
DTSTART:20250309T020000
TZOFFSETFROM:-0600
TZOFFSETTO:-0500
RDATE:20260308T020000
RDATE:20270314T020000
END:DAYLIGHT
END:VTIMEZONE
BEGIN:VEVENT
UID:ae41a49c-f7bd-4025-b000-0e7db8037d2d
DTSTAMP:20260421T231553Z
DESCRIPTION:Email or Call to see what we are studying!
DTSTART;TZID=America/Chicago:20260217T081500
DTEND;TZID=America/Chicago:20260217T094500
LOCATION:9981 W. 190th St.\, Suite i\, Mokena\, IL 60448 US
SUMMARY:Bible Study
END:VEVENT
END:VCALENDAR
