BEGIN:VCALENDAR
VERSION:2.0
PRODID:-//myjoyfulheart.org//NONSGML kigkonsult.se iCalcreator 2.30.10//
CALSCALE:GREGORIAN
METHOD:PUBLISH
UID:48b9bcc0-3a83-4412-88c5-bb11aaec8227
X-WR-CALDESC:Email or Call to see what we are studying!
X-WR-RELCALID:1de9ddc6a5d9ee7b7462270227fd2eea
X-WR-TIMEZONE:America/Chicago
BEGIN:VTIMEZONE
TZID:America/Chicago
BEGIN:STANDARD
TZNAME:CST
DTSTART:20251102T020000
TZOFFSETFROM:-0500
TZOFFSETTO:-0600
RDATE:20261101T020000
END:STANDARD
BEGIN:DAYLIGHT
TZNAME:CDT
DTSTART:20250309T020000
TZOFFSETFROM:-0600
TZOFFSETTO:-0500
RDATE:20260308T020000
RDATE:20270314T020000
END:DAYLIGHT
END:VTIMEZONE
BEGIN:VEVENT
UID:6f0147c5-1edd-4753-b1bb-b5989cb3b744
DTSTAMP:20260422T041634Z
DESCRIPTION:Email or Call to see what we are studying!
DTSTART;TZID=America/Chicago:20260113T081500
DTEND;TZID=America/Chicago:20260113T094500
LOCATION:9981 W. 190th St.\, Suite i\, Mokena\, IL 60448 US
SUMMARY:Bible Study
END:VEVENT
END:VCALENDAR
