BEGIN:VCALENDAR
VERSION:2.0
PRODID:-//myjoyfulheart.org//NONSGML kigkonsult.se iCalcreator 2.30.10//
CALSCALE:GREGORIAN
METHOD:PUBLISH
UID:aff5d5ee-fdab-49a3-a9c4-081d2da85293
X-WR-CALDESC:
X-WR-RELCALID:b9ceb7f4ad1dcd31d4ab9280dcf12b03
X-WR-TIMEZONE:America/Chicago
BEGIN:VTIMEZONE
TZID:America/Chicago
BEGIN:STANDARD
TZNAME:CST
DTSTART:20251102T020000
TZOFFSETFROM:-0500
TZOFFSETTO:-0600
RDATE:20261101T020000
END:STANDARD
BEGIN:DAYLIGHT
TZNAME:CDT
DTSTART:20250309T020000
TZOFFSETFROM:-0600
TZOFFSETTO:-0500
RDATE:20260308T020000
RDATE:20270314T020000
END:DAYLIGHT
END:VTIMEZONE
BEGIN:VEVENT
UID:156deba8-0fdd-40f4-9393-b7de56f86c69
DTSTAMP:20260422T041829Z
DESCRIPTION:
DTSTART;TZID=America/Chicago:20251220T050000
DTEND;TZID=America/Chicago:20260111T050001
LOCATION:
SUMMARY:OFFICE & BOUTIQUE CLOSED
END:VEVENT
END:VCALENDAR
