BEGIN:VCALENDAR
VERSION:2.0
PRODID:-//myjoyfulheart.org//NONSGML kigkonsult.se iCalcreator 2.30.10//
CALSCALE:GREGORIAN
METHOD:PUBLISH
UID:2c7073a6-a67b-407b-a59d-2c2970b30066
X-WR-CALDESC:
X-WR-RELCALID:01fecc87ab6f23f347e0c8ca0cea96a0
X-WR-TIMEZONE:America/Chicago
BEGIN:VTIMEZONE
TZID:America/Chicago
BEGIN:STANDARD
TZNAME:CST
DTSTART:20251102T020000
TZOFFSETFROM:-0500
TZOFFSETTO:-0600
RDATE:20261101T020000
END:STANDARD
BEGIN:DAYLIGHT
TZNAME:CDT
DTSTART:20250309T020000
TZOFFSETFROM:-0600
TZOFFSETTO:-0500
RDATE:20260308T020000
RDATE:20270314T020000
END:DAYLIGHT
END:VTIMEZONE
BEGIN:VEVENT
UID:8e6cdab1-28de-4ab5-9480-4c9d3e81d827
DTSTAMP:20260422T095704Z
DESCRIPTION:
DTSTART;TZID=America/Chicago:20251217T093000
DTEND;TZID=America/Chicago:20251217T133000
LOCATION:9981 W. 190th Street\, Suite I-J\, Mokena\, AL 60448 US
SUMMARY:Volunteer Day & Boutique Open
END:VEVENT
END:VCALENDAR
