BEGIN:VCALENDAR
VERSION:2.0
PRODID:-//myjoyfulheart.org//NONSGML kigkonsult.se iCalcreator 2.30.10//
CALSCALE:GREGORIAN
METHOD:PUBLISH
UID:55ff9c26-3afc-4db2-b37a-df032d0c98bf
X-WR-CALDESC:Email or Call to see what we are studying!
X-WR-RELCALID:24ac1d4e84924ab1b5ab53411f1dda82
X-WR-TIMEZONE:America/Chicago
BEGIN:VTIMEZONE
TZID:America/Chicago
BEGIN:STANDARD
TZNAME:CST
DTSTART:20251102T020000
TZOFFSETFROM:-0500
TZOFFSETTO:-0600
RDATE:20261101T020000
END:STANDARD
BEGIN:DAYLIGHT
TZNAME:CDT
DTSTART:20250309T020000
TZOFFSETFROM:-0600
TZOFFSETTO:-0500
RDATE:20260308T020000
RDATE:20270314T020000
END:DAYLIGHT
END:VTIMEZONE
BEGIN:VEVENT
UID:c54ed4ec-6ed9-4ea6-96fa-662709d90cc4
DTSTAMP:20260422T092258Z
DESCRIPTION:Email or Call to see what we are studying!
DTSTART;TZID=America/Chicago:20251216T081500
DTEND;TZID=America/Chicago:20251216T094500
LOCATION:9981 W. 190th St.\, Suite i\, Mokena\, IL 60448 US
SUMMARY:Bible Study
END:VEVENT
END:VCALENDAR
