BEGIN:VCALENDAR
VERSION:2.0
PRODID:-//myjoyfulheart.org//NONSGML kigkonsult.se iCalcreator 2.30.10//
CALSCALE:GREGORIAN
METHOD:PUBLISH
UID:fa62cfef-bbfe-41bc-a654-79ab1ee1fa07
X-WR-CALDESC:Come join us for an awesome sale where you can find unique gif
 ts and something for everyone on your list.
X-WR-RELCALID:2fc417f5020f393fd0b0bcf45e2922b2
X-WR-TIMEZONE:America/Chicago
BEGIN:VTIMEZONE
TZID:America/Chicago
BEGIN:STANDARD
TZNAME:CST
DTSTART:20251102T020000
TZOFFSETFROM:-0500
TZOFFSETTO:-0600
RDATE:20261101T020000
END:STANDARD
BEGIN:DAYLIGHT
TZNAME:CDT
DTSTART:20250309T020000
TZOFFSETFROM:-0600
TZOFFSETTO:-0500
RDATE:20260308T020000
RDATE:20270314T020000
END:DAYLIGHT
END:VTIMEZONE
BEGIN:VEVENT
UID:84c08c65-0821-49c4-87c9-55a9978032ae
DTSTAMP:20260422T092258Z
DESCRIPTION:Come join us for an awesome sale where you can find unique gift
 s and something for everyone on your list.
DTSTART;TZID=America/Chicago:20251201T090000
DTEND;TZID=America/Chicago:20251201T193000
LOCATION:9981 W. 190th St.\, Suite J\, Mokena\, AL 60448 US
SUMMARY:Joyful Heart's Holly Jolly Jubilee
END:VEVENT
END:VCALENDAR
