BEGIN:VCALENDAR
VERSION:2.0
PRODID:-//myjoyfulheart.org//NONSGML kigkonsult.se iCalcreator 2.30.10//
CALSCALE:GREGORIAN
METHOD:PUBLISH
UID:9d8f01c0-725a-4f17-a292-3d7663b3ee5d
X-WR-CALDESC:Email or Call to see what we are studying!
X-WR-RELCALID:eeeda74dc1d1f30055a06c0218361d0c
X-WR-TIMEZONE:America/Chicago
BEGIN:VTIMEZONE
TZID:America/Chicago
BEGIN:STANDARD
TZNAME:CST
DTSTART:20251102T020000
TZOFFSETFROM:-0500
TZOFFSETTO:-0600
RDATE:20261101T020000
END:STANDARD
BEGIN:DAYLIGHT
TZNAME:CDT
DTSTART:20250309T020000
TZOFFSETFROM:-0600
TZOFFSETTO:-0500
RDATE:20260308T020000
RDATE:20270314T020000
END:DAYLIGHT
END:VTIMEZONE
BEGIN:VEVENT
UID:4000b1ad-7227-4d02-92e0-2f41f484cd45
DTSTAMP:20260422T141546Z
DESCRIPTION:Email or Call to see what we are studying!
DTSTART;TZID=America/Chicago:20251125T081500
DTEND;TZID=America/Chicago:20251125T094500
LOCATION:9981 W. 190th St.\, Suite i\, Mokena\, IL 60448 US
SUMMARY:Bible Study
END:VEVENT
END:VCALENDAR
