BEGIN:VCALENDAR
VERSION:2.0
PRODID:-//myjoyfulheart.org//NONSGML kigkonsult.se iCalcreator 2.30.10//
CALSCALE:GREGORIAN
METHOD:PUBLISH
UID:3d656199-5d14-48ad-b0b4-6f651344e2a1
X-WR-CALDESC:
X-WR-RELCALID:e1c7bf8eda46ad5ea866b452d6920e5e
X-WR-TIMEZONE:America/Chicago
BEGIN:VTIMEZONE
TZID:America/Chicago
BEGIN:STANDARD
TZNAME:CST
DTSTART:20251102T020000
TZOFFSETFROM:-0500
TZOFFSETTO:-0600
RDATE:20261101T020000
END:STANDARD
BEGIN:DAYLIGHT
TZNAME:CDT
DTSTART:20250309T020000
TZOFFSETFROM:-0600
TZOFFSETTO:-0500
RDATE:20260308T020000
RDATE:20270314T020000
END:DAYLIGHT
END:VTIMEZONE
BEGIN:VEVENT
UID:ea65237c-1775-48c1-842e-9e2d4b81f1e1
DTSTAMP:20260422T142254Z
DESCRIPTION:
DTSTART;TZID=America/Chicago:20251118T093000
DTEND;TZID=America/Chicago:20251118T133000
LOCATION:9981 W. 190th Street\, Suite I-J\, Mokena\, AL 60448 US
SUMMARY:Volunteer Day & Boutique Open
END:VEVENT
END:VCALENDAR
