BEGIN:VCALENDAR
VERSION:2.0
PRODID:-//myjoyfulheart.org//NONSGML kigkonsult.se iCalcreator 2.30.10//
CALSCALE:GREGORIAN
METHOD:PUBLISH
UID:b20eaaf5-f8d8-4545-910d-83f13ce85f3d
X-WR-CALDESC:Email or Call to see what we are studying!
X-WR-RELCALID:113c68772f158c97844ab7c9ea801bc5
X-WR-TIMEZONE:America/Chicago
BEGIN:VTIMEZONE
TZID:America/Chicago
BEGIN:STANDARD
TZNAME:CST
DTSTART:20251102T020000
TZOFFSETFROM:-0500
TZOFFSETTO:-0600
RDATE:20261101T020000
END:STANDARD
BEGIN:DAYLIGHT
TZNAME:CDT
DTSTART:20250309T020000
TZOFFSETFROM:-0600
TZOFFSETTO:-0500
RDATE:20260308T020000
RDATE:20270314T020000
END:DAYLIGHT
END:VTIMEZONE
BEGIN:VEVENT
UID:5e0e9ec8-7910-4fe7-8f94-00dc9fe45ff0
DTSTAMP:20260422T141746Z
DESCRIPTION:Email or Call to see what we are studying!
DTSTART;TZID=America/Chicago:20251118T081500
DTEND;TZID=America/Chicago:20251118T094500
LOCATION:9981 W. 190th St.\, Suite i\, Mokena\, IL 60448 US
SUMMARY:Bible Study
END:VEVENT
END:VCALENDAR
