BEGIN:VCALENDAR
VERSION:2.0
PRODID:-//myjoyfulheart.org//NONSGML kigkonsult.se iCalcreator 2.30.10//
CALSCALE:GREGORIAN
METHOD:PUBLISH
UID:3f9e0776-2b1c-47b3-8062-e6672897c458
X-WR-CALDESC:
X-WR-RELCALID:1c0da30aaf40f83b6e39353dea9fb4f0
X-WR-TIMEZONE:America/Chicago
BEGIN:VTIMEZONE
TZID:America/Chicago
BEGIN:STANDARD
TZNAME:CST
DTSTART:20251102T020000
TZOFFSETFROM:-0500
TZOFFSETTO:-0600
RDATE:20261101T020000
END:STANDARD
BEGIN:DAYLIGHT
TZNAME:CDT
DTSTART:20250309T020000
TZOFFSETFROM:-0600
TZOFFSETTO:-0500
RDATE:20260308T020000
RDATE:20270314T020000
END:DAYLIGHT
END:VTIMEZONE
BEGIN:VEVENT
UID:eb75d7ef-0d64-4d61-b790-3057bdfccdca
DTSTAMP:20260422T143151Z
DESCRIPTION:
DTSTART;TZID=America/Chicago:20251117T093000
DTEND;TZID=America/Chicago:20251117T133000
LOCATION:9981 W. 190th Street\, Suite I-J\, Mokena\, AL 60448 US
SUMMARY:Volunteer Day & Boutique Open
END:VEVENT
END:VCALENDAR
