BEGIN:VCALENDAR
VERSION:2.0
PRODID:-//myjoyfulheart.org//NONSGML kigkonsult.se iCalcreator 2.30.10//
CALSCALE:GREGORIAN
METHOD:PUBLISH
UID:ead528e2-16c7-487e-a517-de0c58e70787
X-WR-CALDESC:
X-WR-RELCALID:9240799bc7d1c365c12557ccdde26081
X-WR-TIMEZONE:America/Chicago
BEGIN:VTIMEZONE
TZID:America/Chicago
BEGIN:STANDARD
TZNAME:CST
DTSTART:20251102T020000
TZOFFSETFROM:-0500
TZOFFSETTO:-0600
RDATE:20261101T020000
END:STANDARD
BEGIN:DAYLIGHT
TZNAME:CDT
DTSTART:20250309T020000
TZOFFSETFROM:-0600
TZOFFSETTO:-0500
RDATE:20260308T020000
RDATE:20270314T020000
END:DAYLIGHT
END:VTIMEZONE
BEGIN:VEVENT
UID:0ed33e53-27f9-4510-8af9-eb6be4d2b7ed
DTSTAMP:20260422T141645Z
DESCRIPTION:
DTSTART;TZID=America/Chicago:20251115T090000
DTEND;TZID=America/Chicago:20251115T120000
LOCATION:9981 W. 190th St.\, Suite J\, Mokena\, IL 60448 US
SUMMARY:Satuday Boutique Hours
END:VEVENT
END:VCALENDAR
