BEGIN:VCALENDAR
VERSION:2.0
PRODID:-//myjoyfulheart.org//NONSGML kigkonsult.se iCalcreator 2.30.10//
CALSCALE:GREGORIAN
METHOD:PUBLISH
UID:ed370393-1926-4753-8fed-62453050eedf
X-WR-CALDESC:
X-WR-RELCALID:efefe6cd826a3dcea621f057346b8d3c
X-WR-TIMEZONE:America/Chicago
BEGIN:VTIMEZONE
TZID:America/Chicago
BEGIN:STANDARD
TZNAME:CST
DTSTART:20251102T020000
TZOFFSETFROM:-0500
TZOFFSETTO:-0600
RDATE:20261101T020000
END:STANDARD
BEGIN:DAYLIGHT
TZNAME:CDT
DTSTART:20250309T020000
TZOFFSETFROM:-0600
TZOFFSETTO:-0500
RDATE:20260308T020000
RDATE:20270314T020000
END:DAYLIGHT
END:VTIMEZONE
BEGIN:VEVENT
UID:f956423e-2c79-4186-8182-62a50a7c6d16
DTSTAMP:20260422T141358Z
DESCRIPTION:
DTSTART;TZID=America/Chicago:20251110T173000
DTEND;TZID=America/Chicago:20251110T193000
LOCATION:9981 W. 190th St.\, Suite J\, Mokena\, IL 60448 US
SUMMARY:Evening Boutique Hours
END:VEVENT
END:VCALENDAR
