BEGIN:VCALENDAR
VERSION:2.0
PRODID:-//myjoyfulheart.org//NONSGML kigkonsult.se iCalcreator 2.30.10//
CALSCALE:GREGORIAN
METHOD:PUBLISH
UID:e0ffa91f-d49d-4260-8591-801afd68171d
X-WR-CALDESC:
X-WR-RELCALID:8048664b4339a1d16f83fcf31397ec22
X-WR-TIMEZONE:America/Chicago
BEGIN:VTIMEZONE
TZID:America/Chicago
BEGIN:STANDARD
TZNAME:CST
DTSTART:20251102T020000
TZOFFSETFROM:-0500
TZOFFSETTO:-0600
RDATE:20261101T020000
END:STANDARD
BEGIN:DAYLIGHT
TZNAME:CDT
DTSTART:20250309T020000
TZOFFSETFROM:-0600
TZOFFSETTO:-0500
RDATE:20260308T020000
RDATE:20270314T020000
END:DAYLIGHT
END:VTIMEZONE
BEGIN:VEVENT
UID:ab0516af-a915-46c7-832c-672862e7b3b3
DTSTAMP:20260422T142439Z
DESCRIPTION:
DTSTART;TZID=America/Chicago:20251104T093000
DTEND;TZID=America/Chicago:20251104T133000
LOCATION:9981 W. 190th Street\, Suite I-J\, Mokena\, AL 60448 US
SUMMARY:Volunteer Day & Boutique Open
END:VEVENT
END:VCALENDAR
