BEGIN:VCALENDAR
VERSION:2.0
PRODID:-//myjoyfulheart.org//NONSGML kigkonsult.se iCalcreator 2.30.10//
CALSCALE:GREGORIAN
METHOD:PUBLISH
UID:2d98a020-36cf-494d-9fe1-11b8bf034ca6
X-WR-CALDESC:
X-WR-RELCALID:880c1a6e8f69353a2ad18389e6ff0d5c
X-WR-TIMEZONE:America/Chicago
BEGIN:VTIMEZONE
TZID:America/Chicago
BEGIN:STANDARD
TZNAME:CST
DTSTART:20241103T020000
TZOFFSETFROM:-0500
TZOFFSETTO:-0600
RDATE:20251102T020000
RDATE:20261101T020000
END:STANDARD
BEGIN:DAYLIGHT
TZNAME:CDT
DTSTART:20250309T020000
TZOFFSETFROM:-0600
TZOFFSETTO:-0500
RDATE:20260308T020000
RDATE:20270314T020000
END:DAYLIGHT
END:VTIMEZONE
BEGIN:VEVENT
UID:72dd81c3-e582-40c7-b7ca-223338336f23
DTSTAMP:20260422T191258Z
DESCRIPTION:
DTSTART;TZID=America/Chicago:20251027T173000
DTEND;TZID=America/Chicago:20251027T193000
LOCATION:9981 W. 190th St.\, Suite J\, Mokena\, IL 60448 US
SUMMARY:Evening Boutique Hours
END:VEVENT
END:VCALENDAR
