BEGIN:VCALENDAR
VERSION:2.0
PRODID:-//myjoyfulheart.org//NONSGML kigkonsult.se iCalcreator 2.30.10//
CALSCALE:GREGORIAN
METHOD:PUBLISH
UID:34f48a0c-dff9-4edb-af89-774aa8b0bea5
X-WR-CALDESC:
X-WR-RELCALID:73f3f87135dc12a0601532945b653e15
X-WR-TIMEZONE:America/Chicago
BEGIN:VTIMEZONE
TZID:America/Chicago
BEGIN:STANDARD
TZNAME:CST
DTSTART:20241103T020000
TZOFFSETFROM:-0500
TZOFFSETTO:-0600
RDATE:20251102T020000
RDATE:20261101T020000
END:STANDARD
BEGIN:DAYLIGHT
TZNAME:CDT
DTSTART:20250309T020000
TZOFFSETFROM:-0600
TZOFFSETTO:-0500
RDATE:20260308T020000
RDATE:20270314T020000
END:DAYLIGHT
END:VTIMEZONE
BEGIN:VEVENT
UID:904df82f-f2de-404e-ae4b-abd02d64f782
DTSTAMP:20260422T191407Z
DESCRIPTION:
DTSTART;TZID=America/Chicago:20251025T090000
DTEND;TZID=America/Chicago:20251025T120000
LOCATION:9981 W. 190th St.\, Suite J\, Mokena\, IL 60448 US
SUMMARY:Satuday Boutique Hours
END:VEVENT
END:VCALENDAR
