BEGIN:VCALENDAR
VERSION:2.0
PRODID:-//myjoyfulheart.org//NONSGML kigkonsult.se iCalcreator 2.30.10//
CALSCALE:GREGORIAN
METHOD:PUBLISH
UID:daac83bd-470d-4bb0-8732-7bc56c0ac185
X-WR-CALDESC:Email or Call to see what we are studying!
X-WR-RELCALID:13f635756689ac26dd9f9e9ee1e936b2
X-WR-TIMEZONE:America/Chicago
BEGIN:VTIMEZONE
TZID:America/Chicago
BEGIN:STANDARD
TZNAME:CST
DTSTART:20241103T020000
TZOFFSETFROM:-0500
TZOFFSETTO:-0600
RDATE:20251102T020000
RDATE:20261101T020000
END:STANDARD
BEGIN:DAYLIGHT
TZNAME:CDT
DTSTART:20250309T020000
TZOFFSETFROM:-0600
TZOFFSETTO:-0500
RDATE:20260308T020000
RDATE:20270314T020000
END:DAYLIGHT
END:VTIMEZONE
BEGIN:VEVENT
UID:85c23264-5059-4cf0-866b-f46ef08ec949
DTSTAMP:20260422T191006Z
DESCRIPTION:Email or Call to see what we are studying!
DTSTART;TZID=America/Chicago:20251007T081500
DTEND;TZID=America/Chicago:20251007T094500
LOCATION:9981 W. 190th St.\, Suite i\, Mokena\, IL 60448 US
SUMMARY:Bible Study
END:VEVENT
END:VCALENDAR
