BEGIN:VCALENDAR
VERSION:2.0
PRODID:-//myjoyfulheart.org//NONSGML kigkonsult.se iCalcreator 2.30.10//
CALSCALE:GREGORIAN
METHOD:PUBLISH
UID:b67cd317-8bc6-4d88-9fd3-51c4e07392ee
X-WR-CALDESC:
X-WR-RELCALID:40c707caf71d9842b5c41e3f69ebbd44
X-WR-TIMEZONE:America/Chicago
BEGIN:VTIMEZONE
TZID:America/Chicago
BEGIN:STANDARD
TZNAME:CST
DTSTART:20241103T020000
TZOFFSETFROM:-0500
TZOFFSETTO:-0600
RDATE:20251102T020000
RDATE:20261101T020000
END:STANDARD
BEGIN:DAYLIGHT
TZNAME:CDT
DTSTART:20250309T020000
TZOFFSETFROM:-0600
TZOFFSETTO:-0500
RDATE:20260308T020000
RDATE:20270314T020000
END:DAYLIGHT
END:VTIMEZONE
BEGIN:VEVENT
UID:5984f228-a6c7-4b88-8f3d-e262d06c7fbf
DTSTAMP:20260422T190809Z
DESCRIPTION:
DTSTART;TZID=America/Chicago:20251004T090000
DTEND;TZID=America/Chicago:20251004T120000
LOCATION:9981 W. 190th St.\, Suite I-J\, Mokena\, IL 60448 US
SUMMARY:Open House
END:VEVENT
END:VCALENDAR
