BEGIN:VCALENDAR
VERSION:2.0
PRODID:-//myjoyfulheart.org//NONSGML kigkonsult.se iCalcreator 2.30.10//
CALSCALE:GREGORIAN
METHOD:PUBLISH
UID:05138312-f5c0-4235-a50a-0834698ebd88
X-WR-CALDESC:
X-WR-RELCALID:57d24e78ee9bdb788799a2706d585811
X-WR-TIMEZONE:America/Chicago
BEGIN:VTIMEZONE
TZID:America/Chicago
BEGIN:STANDARD
TZNAME:CST
DTSTART:20241103T020000
TZOFFSETFROM:-0500
TZOFFSETTO:-0600
RDATE:20251102T020000
RDATE:20261101T020000
END:STANDARD
BEGIN:DAYLIGHT
TZNAME:CDT
DTSTART:20250309T020000
TZOFFSETFROM:-0600
TZOFFSETTO:-0500
RDATE:20260308T020000
RDATE:20270314T020000
END:DAYLIGHT
END:VTIMEZONE
BEGIN:VEVENT
UID:25d66081-edd4-4dd1-bab0-add4d99f3ae9
DTSTAMP:20260422T234059Z
DESCRIPTION:
DTSTART;TZID=America/Chicago:20250912T180000
DTEND;TZID=America/Chicago:20250912T213000
LOCATION:15052 Archer Ave\, Suite i\, Lockport\, IL 60441 US
SUMMARY:Bunco Fundraiser
END:VEVENT
END:VCALENDAR
