BEGIN:VCALENDAR
VERSION:2.0
PRODID:-//myjoyfulheart.org//NONSGML kigkonsult.se iCalcreator 2.30.10//
CALSCALE:GREGORIAN
METHOD:PUBLISH
UID:f7f0b0e8-c8f1-4b28-b0ec-37b6ff98efd1
X-WR-CALDESC:
X-WR-RELCALID:bd2a70f375dbb84537cf53e2a2d67c82
X-WR-TIMEZONE:America/Chicago
BEGIN:VTIMEZONE
TZID:America/Chicago
BEGIN:STANDARD
TZNAME:CST
DTSTART:20241103T020000
TZOFFSETFROM:-0500
TZOFFSETTO:-0600
RDATE:20251102T020000
RDATE:20261101T020000
END:STANDARD
BEGIN:DAYLIGHT
TZNAME:CDT
DTSTART:20250309T020000
TZOFFSETFROM:-0600
TZOFFSETTO:-0500
RDATE:20260308T020000
END:DAYLIGHT
END:VTIMEZONE
BEGIN:VEVENT
UID:86f87c87-688f-4d74-949a-ddab2ce34993
DTSTAMP:20260423T051605Z
DESCRIPTION:
DTSTART;TZID=America/Chicago:20250819T093000
DTEND;TZID=America/Chicago:20250819T133000
LOCATION:9981 W. 190th Street\, Suite I-J\, Mokena\, AL 60448 US
SUMMARY:Volunteer Day & Boutique Open
END:VEVENT
END:VCALENDAR
