BEGIN:VCALENDAR
VERSION:2.0
PRODID:-//myjoyfulheart.org//NONSGML kigkonsult.se iCalcreator 2.30.10//
CALSCALE:GREGORIAN
METHOD:PUBLISH
UID:a9c796d1-3bc9-447d-9f5a-45c4254bd6a9
X-WR-CALDESC:Email or Call to see what we are studying!
X-WR-RELCALID:5278f70472d0391f41b8b2c8125cc1fb
X-WR-TIMEZONE:America/Chicago
BEGIN:VTIMEZONE
TZID:America/Chicago
BEGIN:STANDARD
TZNAME:CST
DTSTART:20241103T020000
TZOFFSETFROM:-0500
TZOFFSETTO:-0600
RDATE:20251102T020000
RDATE:20261101T020000
END:STANDARD
BEGIN:DAYLIGHT
TZNAME:CDT
DTSTART:20250309T020000
TZOFFSETFROM:-0600
TZOFFSETTO:-0500
RDATE:20260308T020000
END:DAYLIGHT
END:VTIMEZONE
BEGIN:VEVENT
UID:54eda637-afdc-4d41-82fb-684cd6f03cbc
DTSTAMP:20260423T124404Z
DESCRIPTION:Email or Call to see what we are studying!
DTSTART;TZID=America/Chicago:20250617T081500
DTEND;TZID=America/Chicago:20250617T094500
LOCATION:9981 W. 190th St.\, Suite i\, Mokena\, IL 60448 US
SUMMARY:Bible Study
END:VEVENT
END:VCALENDAR
