BEGIN:VCALENDAR
VERSION:2.0
PRODID:-//myjoyfulheart.org//NONSGML kigkonsult.se iCalcreator 2.30.10//
CALSCALE:GREGORIAN
METHOD:PUBLISH
UID:6f4307d3-e9a7-43fd-88a0-cea8a69688d2
X-WR-CALDESC:đź› ¸Ź Faith & Fatherhood: A Fatherâ€™s Day Boutique Sale đź™Śn\n'The ri
 ghteous man walks in his integrity\; His children are blessed after him.' 
 â€“ Proverbs 20:7\n\nCelebrate the strength\, love\, and leadership of the f
 athers in your life with gifts that inspire and uplift. Join us for a spec
 ial Fatherâ€™s Day Boutique Sale filled with faith-based signs\, meaningful 
 desk decor\, small gifts for your dad\, papa\, gramps\, or that special gu
 y.\n\nâśťď¸Ź Inspirational signs\, scripture-based decor\, books\, and persona
 l touches for his workspace or home\nWhether youâ€™re honoring a dad\, grand
 pa\, mentor\, or spiritual father â€” youâ€™ll find the perfect way to say\, â€ś
 Thank you for leading with love.â€ť\n\nLetâ€™s lift up the men who pour into t
 heir families and walk in Godâ€™s truth. đź’™n
X-WR-RELCALID:851e2c442af33424ae7268530eb4589b
X-WR-TIMEZONE:America/Chicago
BEGIN:VTIMEZONE
TZID:America/Chicago
BEGIN:STANDARD
TZNAME:CST
DTSTART:20241103T020000
TZOFFSETFROM:-0500
TZOFFSETTO:-0600
RDATE:20251102T020000
RDATE:20261101T020000
END:STANDARD
BEGIN:DAYLIGHT
TZNAME:CDT
DTSTART:20250309T020000
TZOFFSETFROM:-0600
TZOFFSETTO:-0500
RDATE:20260308T020000
END:DAYLIGHT
END:VTIMEZONE
BEGIN:VEVENT
UID:499a8e8a-496e-4d22-957e-313040576c7e
DTSTAMP:20260423T124252Z
DESCRIPTION:đź› ¸Ź Faith & Fatherhood: A Fatherâ€™s Day Boutique Sale đź™Śn\n'The rig
 hteous man walks in his integrity\; His children are blessed after him.' â€“
  Proverbs 20:7\n\nCelebrate the strength\, love\, and leadership of the fa
 thers in your life with gifts that inspire and uplift. Join us for a speci
 al Fatherâ€™s Day Boutique Sale filled with faith-based signs\, meaningful d
 esk decor\, small gifts for your dad\, papa\, gramps\, or that special guy
 .\n\nâśťď¸Ź Inspirational signs\, scripture-based decor\, books\, and personal
  touches for his workspace or home\nWhether youâ€™re honoring a dad\, grandp
 a\, mentor\, or spiritual father â€” youâ€™ll find the perfect way to say\, â€śT
 hank you for leading with love.â€ť\n\nLetâ€™s lift up the men who pour into th
 eir families and walk in Godâ€™s truth. đź’™n
DTSTART;TZID=America/Chicago:20250607T093000
DTEND;TZID=America/Chicago:20250607T130000
LOCATION:9981 W. 190th St.\, Suite j\, Mokena\, IL 60448 US
SUMMARY:BOUTIQUE OPEN
END:VEVENT
END:VCALENDAR
